BEGIN:VCALENDAR
VERSION:2.0
PRODID:-//Studentlund - ECPv6.15.20//NONSGML v1.0//EN
CALSCALE:GREGORIAN
METHOD:PUBLISH
X-WR-CALNAME:Studentlund
X-ORIGINAL-URL:https://www.studentlund.se
X-WR-CALDESC:Event under Studentlund
REFRESH-INTERVAL;VALUE=DURATION:PT1H
X-Robots-Tag:noindex
X-PUBLISHED-TTL:PT1H
BEGIN:VTIMEZONE
TZID:Europe/Stockholm
BEGIN:DAYLIGHT
TZOFFSETFROM:+0100
TZOFFSETTO:+0200
TZNAME:CEST
DTSTART:20250330T010000
END:DAYLIGHT
BEGIN:STANDARD
TZOFFSETFROM:+0200
TZOFFSETTO:+0100
TZNAME:CET
DTSTART:20251026T010000
END:STANDARD
BEGIN:DAYLIGHT
TZOFFSETFROM:+0100
TZOFFSETTO:+0200
TZNAME:CEST
DTSTART:20260329T010000
END:DAYLIGHT
BEGIN:STANDARD
TZOFFSETFROM:+0200
TZOFFSETTO:+0100
TZNAME:CET
DTSTART:20261025T010000
END:STANDARD
BEGIN:DAYLIGHT
TZOFFSETFROM:+0100
TZOFFSETTO:+0200
TZNAME:CEST
DTSTART:20270328T010000
END:DAYLIGHT
BEGIN:STANDARD
TZOFFSETFROM:+0200
TZOFFSETTO:+0100
TZNAME:CET
DTSTART:20271031T010000
END:STANDARD
END:VTIMEZONE
BEGIN:VEVENT
DTSTART;TZID=Europe/Stockholm:20260406T120000
DTEND;TZID=Europe/Stockholm:20260406T130000
DTSTAMP:20260424T173503
CREATED:20260212T102445Z
LAST-MODIFIED:20260212T102445Z
UID:10008409-1775476800-1775480400@www.studentlund.se
SUMMARY:Lettuce Eat I Hallands Nation
DESCRIPTION:Välkommen på Lettuce Eat! Återhämta dig från helgen med denna härliga måndagslunch!\nVarje måndag serveras en god & fräsch sallad till lunch på Hallands. Självklart finns det alltid ett vegetariskt alternativ att välja!\n\nHåll utkik efter vår veckomeny på vår Facebook eller Instagramsida för att se vilken sallad som serveras denna vecka!\n\nPris: 40 krTid: 12-13Plats: Thomanders väg 3\n\nDe é Kärlek! \n————-\nTake the opportunity to recover from the weekend with this wonderful Monday Lunch!\nCome by Hallands Nation at 12:00 to enjoy a good & fresh salad and also a great atmosphere! A vegetarian option is always served.\n\nStay updated here or on our Instagram page to see which salad is served this week!\n\nPrice: 40krTime: 12-13Location: Thomanders väg 3\n\nDe é Kärlek! 
URL:https://www.studentlund.se/event/lettuce-eat-i-hallands-nation/2026-04-06/
LOCATION:Hallands Nation\, Thomanders väg 3\, Lund\, 224 65\, Sverige
ORGANIZER;CN="Hallands Nation":MAILTO:expen@hallandsnation.se
GEO:55.7055724;13.211102
X-APPLE-STRUCTURED-LOCATION;VALUE=URI;X-ADDRESS=Hallands Nation Thomanders väg 3 Lund 224 65 Sverige;X-APPLE-RADIUS=500;X-TITLE=Thomanders väg 3:geo:13.211102,55.7055724
END:VEVENT
BEGIN:VEVENT
DTSTART;TZID=Europe/Stockholm:20260407T180000
DTEND;TZID=Europe/Stockholm:20260408T000000
DTSTAMP:20260424T173503
CREATED:20250821T183255Z
LAST-MODIFIED:20260227T151643Z
UID:10007395-1775584800-1775606400@www.studentlund.se
SUMMARY:Pub Ölkällaren | Kalmar Nation
DESCRIPTION:[  below ]\nDo you want to have a chill night out on a Tuesday? Then come by Kalmar Nation! We have a unique meal every week and a wide variety of beer\, cider\, and non-alcoholic options!\nDon’t forget your Swedish ID\, EU ID\, or Passport and Studentlund membership (STUK card).\nCome as you are! \n—\nVill du ha en avslappnad kväll på en tisdag? Kom då förbi på Kalmar Nation. Ät en veckovis varierande middag och drick några drinkar och njut av kvällen.\nGlöm inte ditt ID/Pass och studentlundsmedlemskap.\nKom som du är!
URL:https://www.studentlund.se/event/pub-olkallaren-kalmar-nation-2-2-2/2026-04-07/
LOCATION:Kalmar Nation\, Biskopsgatan 12\, Lund\, 22362\, Sweden
CATEGORIES:Pub
ATTACH;FMTTYPE=image/jpeg:https://www.studentlund.se/wp-content/uploads/2024/08/fb-pub-olkallaren.jpg
ORGANIZER;CN="Kalmar Nation":MAILTO:q@kalmarnation.nu
GEO:55.7064872;13.1983699
X-APPLE-STRUCTURED-LOCATION;VALUE=URI;X-ADDRESS=Kalmar Nation Biskopsgatan 12 Lund 22362 Sweden;X-APPLE-RADIUS=500;X-TITLE=Biskopsgatan 12:geo:13.1983699,55.7064872
END:VEVENT
BEGIN:VEVENT
DTSTART;TZID=Europe/Stockholm:20260408T180000
DTEND;TZID=Europe/Stockholm:20260408T230000
DTSTAMP:20260424T173503
CREATED:20250321T164038Z
LAST-MODIFIED:20260226T183516Z
UID:10007698-1775671200-1775689200@www.studentlund.se
SUMMARY:Pub Lottas
DESCRIPTION:[English below]\nVälkomna till Pub Lottas! Lunds absolut soligaste pub!\nTa med dig dina kursare\, vänner eller kanske granne för att avnjuta en kall öl med en redigt god hamburgare!!\nPuben har öppet varje onsdag 18-23\, sväng förbi med ett gäng eller boka bord till pubmastare@krnation.se för att säkra er plats! Observera att sista tiden för att boka bord är kl. 14 på eventdagen. \nStudentleg & vanligt ID behövs för inträde.\nVi ses där solen alltid skiner!\n______________\nWelcome to Pub Lottas! Lund’s sunniest pub!\nBring your classmates\, friends or maybe neighbours to enjoy a cold beer and a really tasty hamburger!!\nThe pub is open each Wednesday between 18-23\, come by with your group or book a table at pubmastare@krnation.se to secure a spot! Please note that the latest time to reserve a table is by 2:00 PM on the day of the event! \nStudent ID & regular ID is required upon entry.\nSee you where the sun always shines!\n#studentlund #kristianstadsnation
URL:https://www.studentlund.se/event/pub-lottas-20-2/2026-04-08/
LOCATION:Kristianstads Nation\, Tornavägen 7\, Lund\, 22363\, Sverige
ATTACH;FMTTYPE=image/jpeg:https://www.studentlund.se/wp-content/uploads/2025/01/event-banners-2023-scaled.jpg
GEO:55.7090276;13.2075118
X-APPLE-STRUCTURED-LOCATION;VALUE=URI;X-ADDRESS=Kristianstads Nation Tornavägen 7 Lund 22363 Sverige;X-APPLE-RADIUS=500;X-TITLE=Tornavägen 7:geo:13.2075118,55.7090276
END:VEVENT
BEGIN:VEVENT
DTSTART;TZID=Europe/Stockholm:20260408T180000
DTEND;TZID=Europe/Stockholm:20260409T000000
DTSTAMP:20260424T173503
CREATED:20260304T150505Z
LAST-MODIFIED:20260304T150505Z
UID:10008839-1775671200-1775692800@www.studentlund.se
SUMMARY:Onsdagspuben | Blekingska nationen
DESCRIPTION:Välkommen tillbaka till Onsdagspuben på Blekingska nationen! \nOnsdagspuben är din halvtidspaus i veckan där vi firar att helgen skymtar vid horisonten. Det serveras både spännade specialburgare och klassiska varianter\, som avnjuts bäst tillsammans med valfri svalkande dryck! \nBlekingska Nationen har pub varje onsdag mellan 18-00 på Ole Römers väg 14D. \nVill du boka bord? Skriv till oss på boka@blekingska.se!\nAnnars är det bara att droppa in! \nVa redo för mysig barstämning! \n\nWelcome back to the Wednesday pub at Blekingska nation! \nThe Wednesday pub is your half-time break of the week when we come together to celebrate that the weekend is almost upon us.\nWe offer a special burger each week as well as a classic alternative. They’re best enjoyed with a refreshing drink of your choice! \nBlekingska Nation host a pub every Wednesday between 18-00 at Ole Römers väg 14D. \nDo you want to book a table? Book at boka@blekingska.se\nOtherwise\, drop by! \nGet ready for a cozy bar atmosphere!
URL:https://www.studentlund.se/event/onsdagspuben-blekingska-nationen/2026-04-08/
LOCATION:Blekingska nationen\, Ole Römers väg 14\, Lund\, Sverige
ATTACH;FMTTYPE=image/png:https://www.studentlund.se/wp-content/uploads/2026/03/Onsdagspuben-FB.png
GEO:55.7085465;13.1698268
X-APPLE-STRUCTURED-LOCATION;VALUE=URI;X-ADDRESS=Blekingska nationen Ole Römers väg 14 Lund Sverige;X-APPLE-RADIUS=500;X-TITLE=Ole Römers väg 14:geo:13.1698268,55.7085465
END:VEVENT
BEGIN:VEVENT
DTSTART;TZID=Europe/Stockholm:20260408T190000
DTEND;TZID=Europe/Stockholm:20260408T230000
DTSTAMP:20260424T173503
CREATED:20260212T102327Z
LAST-MODIFIED:20260212T102327Z
UID:10008616-1775674800-1775689200@www.studentlund.se
SUMMARY:Wangö Pub Quiz I Hallands Nation
DESCRIPTION:– English below –\n\nVälkommen till Wangö Pub Quiz!\n\nTa med dina vänner och njut av god mat och dryck i Lunds mysigaste pub!\nDe lag som samlat flest poäng i slutet av terminen vinner ett fint pris och hamnar även på vår wall of fame!\n\nHåll dig uppdaterad på vår facebooksida för kvällens matmeny.\n\nTid: kl. 19:00-23:00Plats: Hallands Nation\, Thomanders väg 3\, Lund\n\nVi öppnar för bordsbokning 2 veckor innan evenemanget äger rum\, och bokar gör du genom att maila info@hallandsnation.se\n\nDe é Kärlek!————-\nWarm welcome to Wangö Pub Quiz!\n\nCome to Hallands Nation with a group of friends and enjoy great food and drinks in Lunds most cozy pub!\nThe team that has collected the most points at the end of the semester will win a nice prize and end up on our wall of fame!\n\nKeep yourself updated on our Facebook page for the weekly food menu!\n\nwhen: from 19 to 23where: Hallands Nation\, Thomanders väg 3\n\nWe open for table reservations 2 weeks before the event takes place\, and you can book by emailing info@hallandsnation.se\n\nDe é Kärlek!
URL:https://www.studentlund.se/event/wango-pub-quiz-i-hallands-nation/2026-04-08/
LOCATION:Hallands Nation\, Thomanders väg 3\, Lund\, 224 65\, Sverige
ATTACH;FMTTYPE=image/jpeg:https://www.studentlund.se/wp-content/uploads/2025/08/432372478_787704910056935_9088910167298684692_n.jpg
ORGANIZER;CN="Hallands Nation":MAILTO:expen@hallandsnation.se
GEO:55.7055724;13.211102
X-APPLE-STRUCTURED-LOCATION;VALUE=URI;X-ADDRESS=Hallands Nation Thomanders väg 3 Lund 224 65 Sverige;X-APPLE-RADIUS=500;X-TITLE=Thomanders väg 3:geo:13.211102,55.7055724
END:VEVENT
BEGIN:VEVENT
DTSTART;TZID=Europe/Stockholm:20260408T220000
DTEND;TZID=Europe/Stockholm:20260409T020000
DTSTAMP:20260424T173503
CREATED:20260107T162900Z
LAST-MODIFIED:20260416T122835Z
UID:10007913-1775685600-1775700000@www.studentlund.se
SUMMARY:METRO Klubb & Bar
DESCRIPTION:English Below\n\nPå METRO finner ni Lunds bästa dansgolv\, lounge och DJ samt tre barer som har ett brett utbud av öl\, cider\, drinkar och alkoholfritt.Dörrarna öppnas 22:00 och stänger 02:00!\nGlöm inte leg & studentleg.Medlemmar på VG betalar halva inträdespriset!Förköp köper du i STUK-appen.https://app.stuk.co/events/1477\nVi ses där!\n——————————————-\n\nAt METRO you will find Lund’s best dance floor\, lounge and DJ\, as well as three bars with a wide selection of beers\, ciders\, cocktails and non-alcoholic beverages.The doors open at 22.00 and closes at 02:00!\nDon’t forget ID & student IDMembers at VG pay half the entrance fee!You can buy pre-sale tickets in the STUK-app.https://app.stuk.co/events/1477\n\nSee you there!
URL:https://www.studentlund.se/event/metro-klubb-bar/2026-04-08/
LOCATION:Västgöta Nation\, Tornavägen 17-19\, Lund\, 223 63\, Sverige
CATEGORIES:Pub,Klubb
ATTACH;FMTTYPE=image/png:https://www.studentlund.se/wp-content/uploads/2026/01/METRO-banner.png
ORGANIZER;CN="V%C3%A4stg%C3%B6ta Nation":MAILTO:q@vgnation.se
GEO:55.7052913;13.2104705
X-APPLE-STRUCTURED-LOCATION;VALUE=URI;X-ADDRESS=Västgöta Nation Tornavägen 17-19 Lund 223 63 Sverige;X-APPLE-RADIUS=500;X-TITLE=Tornavägen 17-19:geo:13.2104705,55.7052913
END:VEVENT
BEGIN:VEVENT
DTSTART;TZID=Europe/Stockholm:20260409T120000
DTEND;TZID=Europe/Stockholm:20260409T133000
DTSTAMP:20260424T173503
CREATED:20260304T150526Z
LAST-MODIFIED:20260304T150526Z
UID:10008903-1775736000-1775741400@www.studentlund.se
SUMMARY:Lunch | Blekingska nationen
DESCRIPTION:Välkommen på torsdagslunch på Blekingska Nationen! \nMenyn hittar du på vår Instagram eller på Facebook evenemanget \nBlekingska nationen har lunch varje torsdag mellan 12:00-13:30 på Ole Römers väg 14D. \nKom som du är! \n\nWelcome to Thursday lunch at Blekingska! \nYou’ll find the menu on our Instagram or at the Facebook event \nBlekingska Nation hosts a lunch every Thursday between 12:00-13:30 at Ole Römers väg 14D. \nCome as you are!
URL:https://www.studentlund.se/event/lunch-blekingska-nationen/2026-04-09/
LOCATION:Blekingska nationen\, Ole Römers väg 14\, Lund\, Sverige
ATTACH;FMTTYPE=image/png:https://www.studentlund.se/wp-content/uploads/2023/09/Lunch-FB.png
GEO:55.7085465;13.1698268
X-APPLE-STRUCTURED-LOCATION;VALUE=URI;X-ADDRESS=Blekingska nationen Ole Römers väg 14 Lund Sverige;X-APPLE-RADIUS=500;X-TITLE=Ole Römers väg 14:geo:13.1698268,55.7085465
END:VEVENT
BEGIN:VEVENT
DTSTART;TZID=Europe/Stockholm:20260409T120000
DTEND;TZID=Europe/Stockholm:20260409T140000
DTSTAMP:20260424T173503
CREATED:20260128T153434Z
LAST-MODIFIED:20260304T113548Z
UID:10008322-1775736000-1775743200@www.studentlund.se
SUMMARY:Lunch Neptuni | Kalmar Nation
DESCRIPTION:[ below] \nCome and enjoy a freshly made and weekly changing lunch with homemade bread and dessert at Kalmar Nation!\nCome as you are! 💚 \n— \nKom och njut av en nylagad och veckovis varierande lunch med hembakat bröd och dessert på Kalmar Nation!\nKom som du är! 💚
URL:https://www.studentlund.se/event/lunch-neptuni-kalmar-nation/2026-04-09/
LOCATION:Kalmar Nation\, Biskopsgatan 12\, Lund\, 22362\, Sweden
ATTACH;FMTTYPE=image/jpeg:https://www.studentlund.se/wp-content/uploads/2024/08/fb-lunch-neptuni.jpg
ORGANIZER;CN="Kalmar Nation":MAILTO:q@kalmarnation.nu
GEO:55.7064872;13.1983699
X-APPLE-STRUCTURED-LOCATION;VALUE=URI;X-ADDRESS=Kalmar Nation Biskopsgatan 12 Lund 22362 Sweden;X-APPLE-RADIUS=500;X-TITLE=Biskopsgatan 12:geo:13.1983699,55.7064872
END:VEVENT
BEGIN:VEVENT
DTSTART;TZID=Europe/Stockholm:20260409T170000
DTEND;TZID=Europe/Stockholm:20260409T183000
DTSTAMP:20260424T173503
CREATED:20260304T150533Z
LAST-MODIFIED:20260304T150533Z
UID:10008964-1775754000-1775759400@www.studentlund.se
SUMMARY:GT Yoga | Blekingska nationen
DESCRIPTION:Välkommen till Blekingskas Gin and Tonic Yoga! \nNjut av härlig avkopplande yoga varvat med något gott att dricka.\nOm du har en matta\, ta med den! Annars\, har vi mattor att låna\nut. \nOm GT inte är din grej kommer Blekingska ha sitt vanliga utbud av alkoholhaltiga samt alkoholfria alternativ. Glöm inte att vatten är gratis och gott och bra när man tränar! \n17:00 öppnas dörrar och bar\, och 17:30 kör yoga passet igång. \nBlekingska Nationen har GT Yoga utvalda torsdagar mellan 17-18:30 på Ole Römers väg 14D. \nBiljetter säljs i STUK\, och i dörren.\nMedlemmar: 20kr\nIcke-medlemmar: 40kr\nGlöm inte leg och studentleg! \nKom och njut av härlig yoga! \n\nWelcome to Blekingska’s Gin and Tonic Yoga! \nThe concept is easy: we do relaxing and yoga together\, accompanied by a strengthening drink! \nIf you have a yoga mat\, bring it! If not\, we have mats to lend out! \nIf gin and tonic is not for you\, our normal selection of alcoholic and non-alcoholic drinks are available. Remember that Water is free and tasty and the best way to stay hydrated while working out! \n17:00 the doors and the bar opens\, and at 17:30 the yoga session will begin. \nBlekingska Nation host GT Yoga on selected Thursdays between 17-18:30 at Ole Römers väg 14D. \nTickets in the STUKapp\, and in the door.\nMembers: 20kr\nNon-members: 40kr\nDon’t forget your ID and student ID! \nLet’s relax and undwind!
URL:https://www.studentlund.se/event/gt-yoga-blekingska-nationen/2026-04-09/
ATTACH;FMTTYPE=image/png:https://www.studentlund.se/wp-content/uploads/2026/03/gt-yoga-FB.png
END:VEVENT
BEGIN:VEVENT
DTSTART;TZID=Europe/Stockholm:20260410T180000
DTEND;TZID=Europe/Stockholm:20260410T230000
DTSTAMP:20260424T173503
CREATED:20260212T102422Z
LAST-MODIFIED:20260212T102422Z
UID:10008684-1775844000-1775862000@www.studentlund.se
SUMMARY:Wangö Karaoke Pub I Hallands Nation
DESCRIPTION:Välkommen till Wangö Karaoke Pub!\n\nVarje vecka har du att ha möjlighet att bjuda på skönsång och värma upp rösten inför klubben!\n\nVi kommer vanligt servera goda pizzor tillsammans med pitchers av olika slag! Perfekt som slutet på en lång pluggvecka eller varför inte som början på en hejdundrande utekväll?\n\nKolla in vår facebooksida för att se vilka pizzor som serveras denna veckan. Vi serverar alltid ett vegetariskt alternativ!\n\nTid: kl. 18:00-23:00Plats: Hallands Nations puben\, Thomanders väg 3\n\nGenom att gå på puben får man även gratis entré till våran klubb! Glöm inte att boka bord för att garanterad plats genom att maila info@hallandsnation.se tidigast två veckor innan!\n\nDe é Kärlek!\n\nWangö Karaoke Pub har möjlighet att genomföras med hjälp av AF:s projektfond.\n————-\nWelcome to Wangö Karaoke Pub!\n\nEvery week you have the opportunity to show beautiful singing and warm up your voice before the club!\n\nAs usual\, we will serve fresh homemade pizzas together with pitchers of various kinds! Perfect as the end of a long study week or why not as the start of a thunderous night out?\n\nCheck out our Facebook page and Instagram to see which pizzas are being served this week. We always serve a vegetarian option!\n\nWhen: from 18:00 to 23:00Where: Hallands Nation’s pub\, Thomanders väg 3\n\nBy going to our pub you also get free entrance to our Club Vanta! Don’t forget to book a table to guarantee a place by emailing info@hallandsnation.se until two weeks ahead!\n\nDe é Kärlek!\n\nWangö Karaoke Pub has the opportunity to be implemented with the help of AF’s project fund.
URL:https://www.studentlund.se/event/wango-karaoke-pub-i-hallands-nation/2026-04-10/
LOCATION:Hallands Nation\, Thomanders väg 3\, Lund\, 224 65\, Sverige
ATTACH;FMTTYPE=image/png:https://www.studentlund.se/wp-content/uploads/2025/08/Karaoke.png
ORGANIZER;CN="Hallands Nation":MAILTO:expen@hallandsnation.se
GEO:55.7055724;13.211102
X-APPLE-STRUCTURED-LOCATION;VALUE=URI;X-ADDRESS=Hallands Nation Thomanders väg 3 Lund 224 65 Sverige;X-APPLE-RADIUS=500;X-TITLE=Thomanders väg 3:geo:13.211102,55.7055724
END:VEVENT
BEGIN:VEVENT
DTSTART;TZID=Europe/Stockholm:20260410T180000
DTEND;TZID=Europe/Stockholm:20260411T010000
DTSTAMP:20260424T173503
CREATED:20260129T151614Z
LAST-MODIFIED:20260129T151614Z
UID:10008296-1775844000-1775869200@www.studentlund.se
SUMMARY:Pub Kaggen | Kalmar Nation
DESCRIPTION:[  below] Pub Kaggen is back! Every Friday Kalmar Nation will have a Pub with delicious burger. We offer a classic burger and a weekly burger special. All Burgers can be made vegetarian or vegan. Come and enjoy a relaxing Friday night with burgers and drinks in our cozy pub. Don’t forget your Swedish ID\, EU ID\, or Passport and Studentlund membership. Come as you are  \n— \nPub Kaggen is back! Every Friday Kalmar Nation will have a Pub with tasty burgers. We offer a regular burger and a weekly varying burger. All burgers can be made vegetarian or vegan. \nCome and enjoy a relaxing Friday night with burgers and drinks in our cozy pub. \nDon’t forget your ID/Passport and Studentlund membership. \nCome as you are!
URL:https://www.studentlund.se/event/pub-kaggen-kalmar-nation-2/2026-04-10/
LOCATION:Kalmar Nation\, Biskopsgatan 12\, Lund\, 22362\, Sweden
ATTACH;FMTTYPE=image/jpeg:https://www.studentlund.se/wp-content/uploads/2024/08/fb-pub-kaggen.jpg
ORGANIZER;CN="Kalmar Nation":MAILTO:q@kalmarnation.nu
GEO:55.7064872;13.1983699
X-APPLE-STRUCTURED-LOCATION;VALUE=URI;X-ADDRESS=Kalmar Nation Biskopsgatan 12 Lund 22362 Sweden;X-APPLE-RADIUS=500;X-TITLE=Biskopsgatan 12:geo:13.1983699,55.7064872
END:VEVENT
BEGIN:VEVENT
DTSTART;TZID=Europe/Stockholm:20260410T220000
DTEND;TZID=Europe/Stockholm:20260411T020000
DTSTAMP:20260424T173503
CREATED:20260212T102520Z
LAST-MODIFIED:20260212T102520Z
UID:10008751-1775858400-1775872800@www.studentlund.se
SUMMARY:Club Vanta I Hallands Nation
DESCRIPTION:– English below –\n\nVårterminen närmar sig med stormsteg och åh\, vad vi längtar tills vi får träffa er igen!\nVarje fredag\, välkomnar vi er till vårt inte så nya Club Vanta-koncept samtidigt med våra kära DJs Stuntboys!! Och för den som är sugen på sing-along är vår karaokepub fortfarande öppen som vanligt.\n\nTa med nära samt kära och kom som ni é. Vi vill att ni tillsammans ska känna er som ett i mörkret!\nAlla medlemmar i Hallands Nation har gratis inträde HELA KVÄLLEN.\n\nFörköp säljs via STUK-appen. Större grupper kan skicka iväg ett mail till q@hallandsnation.se för att köpa biljetter! Förköpen är giltiga 22:00-23:00.\n\nGlöm inte ID och StudentID (eller eventuellt betalningsintyg)\n\nVi fotograferar under våra verksamheter – har du några frågor maila info@hallandsnation.se\n\nDe é Kärlek!————-\nEvery Friday\, we are welcoming you to our not-so-new Club Vanta concept along with our beloved DJs Stuntboys!! For those who are in the mood for a sing-along\, our karaoke pub will be held open throughout the night as usual.\n\nBring your friends\, come as you are. We want you all to feel as one in the dark!\n\nAll members of Hallands Nation have free entry throughout the WHOLE NIGHT.\n\nPre-ticktes are sold via the STUK app on the Monday of the same week. Larger groups can send an email to q@hallandsnation.se to buy tickets! The pre-tickets are valid 22:00-23:00.\n\nDon’t forget ID and StudentID (or possibly proof of payment)\n\nWe photograph during our events – if you have any questions\, email info@hallandsnation.se\n\nDe é Kärlek!
URL:https://www.studentlund.se/event/club-vanta-i-hallands-nation/2026-04-10/
LOCATION:Hallands Nation\, Thomanders väg 3\, Lund\, 224 65\, Sverige
ATTACH;FMTTYPE=image/png:https://www.studentlund.se/wp-content/uploads/2024/08/Club-Vanta-Banner-Final.png
ORGANIZER;CN="Hallands Nation":MAILTO:expen@hallandsnation.se
GEO:55.7055724;13.211102
X-APPLE-STRUCTURED-LOCATION;VALUE=URI;X-ADDRESS=Hallands Nation Thomanders väg 3 Lund 224 65 Sverige;X-APPLE-RADIUS=500;X-TITLE=Thomanders väg 3:geo:13.211102,55.7055724
END:VEVENT
BEGIN:VEVENT
DTSTART;TZID=Europe/Stockholm:20260410T223000
DTEND;TZID=Europe/Stockholm:20260411T020000
DTSTAMP:20260424T173503
CREATED:20260311T101128Z
LAST-MODIFIED:20260311T101128Z
UID:10009032-1775860200-1775872800@www.studentlund.se
SUMMARY:Historiepoparna | Blekingska nationen
DESCRIPTION:Ikväll dansar vi tillbaka till framtiden på klubb Historiepoparna! \nHistoriepoparna är Blekingska nationens musikaliska tidsresa från 60-talet till idag\, allt på samma kväll. Ny timme innebär nytt årtionde\, so dust off your dancing shoes! \nVi öppnar dörrarna på Ole Römersväg 14D kl 22:30 och de slås igen 2:00!\nGlöm inte id och studentleg! \nFörköp innebär företräde i kön 22:30-00:00. Skaffa förköp på STUK! \n\nTonight we’re dancing back to the future at Club Historiepoparna! \nA musical journey across time takes you through the golden age of pop\, all in one night! Every hour we enter a new decade\, so dust off your dancing shoes! \nThe doors open at 22:30 and close at 2:00!\nDon’t forget ID and student-ID! \nPresale tickets allows you to skip the queue 22:30-00:00. Buy presale at STUK!
URL:https://www.studentlund.se/event/historiepoparna-blekingska-nationen/2026-04-10/
LOCATION:Blekingska nationen\, Ole Römers väg 14\, Lund\, Sverige
ATTACH;FMTTYPE=image/png:https://www.studentlund.se/wp-content/uploads/2026/03/Historiepoparna-fb.png
GEO:55.7085465;13.1698268
X-APPLE-STRUCTURED-LOCATION;VALUE=URI;X-ADDRESS=Blekingska nationen Ole Römers väg 14 Lund Sverige;X-APPLE-RADIUS=500;X-TITLE=Ole Römers väg 14:geo:13.1698268,55.7085465
END:VEVENT
END:VCALENDAR