BEGIN:VCALENDAR
VERSION:2.0
PRODID:-//Studentlund - ECPv6.15.20//NONSGML v1.0//EN
CALSCALE:GREGORIAN
METHOD:PUBLISH
X-WR-CALNAME:Studentlund
X-ORIGINAL-URL:https://www.studentlund.se
X-WR-CALDESC:Event under Studentlund
REFRESH-INTERVAL;VALUE=DURATION:PT1H
X-Robots-Tag:noindex
X-PUBLISHED-TTL:PT1H
BEGIN:VTIMEZONE
TZID:Europe/Stockholm
BEGIN:DAYLIGHT
TZOFFSETFROM:+0100
TZOFFSETTO:+0200
TZNAME:CEST
DTSTART:20250330T010000
END:DAYLIGHT
BEGIN:STANDARD
TZOFFSETFROM:+0200
TZOFFSETTO:+0100
TZNAME:CET
DTSTART:20251026T010000
END:STANDARD
BEGIN:DAYLIGHT
TZOFFSETFROM:+0100
TZOFFSETTO:+0200
TZNAME:CEST
DTSTART:20260329T010000
END:DAYLIGHT
BEGIN:STANDARD
TZOFFSETFROM:+0200
TZOFFSETTO:+0100
TZNAME:CET
DTSTART:20261025T010000
END:STANDARD
BEGIN:DAYLIGHT
TZOFFSETFROM:+0100
TZOFFSETTO:+0200
TZNAME:CEST
DTSTART:20270328T010000
END:DAYLIGHT
BEGIN:STANDARD
TZOFFSETFROM:+0200
TZOFFSETTO:+0100
TZNAME:CET
DTSTART:20271031T010000
END:STANDARD
END:VTIMEZONE
BEGIN:VEVENT
DTSTART;TZID=Europe/Stockholm:20260424T190000
DTEND;TZID=Europe/Stockholm:20260424T220000
DTSTAMP:20260419T202843
CREATED:20260407T061934Z
LAST-MODIFIED:20260407T061934Z
UID:10009042-1777057200-1777068000@www.studentlund.se
SUMMARY:LUST presents: Julius Caesar by William Shakespeare
DESCRIPTION:Caesar is feeling invincible after gaining sole control of Rome\, but not everyone’s happy about it. Is it one’s duty to turn against the President when the President has turned against his own people? Tensions run high in this contemporary adaptation of Shakespeare’s tragedy of politics\, love and betrayal. \nThe theater performance will be entirely in English and follows the original script by William Shakespeare. Please note that the show contains flashing lights. \n 
URL:https://www.studentlund.se/event/lust-presents-julius-caesar-by-william-shakespeare/2026-04-24/
LOCATION:AF-Borgen\, Sandgatan 2\, Lund\, 223 50\, Sverige
ATTACH;FMTTYPE=image/png:https://www.studentlund.se/wp-content/uploads/2026/04/Caesar-update.png
ORGANIZER;CN="Lunds Studentteater":MAILTO:info@lundsstudentteater.se
GEO:55.7055019;13.1954887
X-APPLE-STRUCTURED-LOCATION;VALUE=URI;X-ADDRESS=AF-Borgen Sandgatan 2 Lund 223 50 Sverige;X-APPLE-RADIUS=500;X-TITLE=Sandgatan 2:geo:13.1954887,55.7055019
END:VEVENT
BEGIN:VEVENT
DTSTART;TZID=Europe/Stockholm:20260425T130000
DTEND;TZID=Europe/Stockholm:20260425T160000
DTSTAMP:20260419T202843
CREATED:20260407T061934Z
LAST-MODIFIED:20260407T061934Z
UID:10009043-1777122000-1777132800@www.studentlund.se
SUMMARY:LUST presents: Julius Caesar by William Shakespeare
DESCRIPTION:Caesar is feeling invincible after gaining sole control of Rome\, but not everyone’s happy about it. Is it one’s duty to turn against the President when the President has turned against his own people? Tensions run high in this contemporary adaptation of Shakespeare’s tragedy of politics\, love and betrayal. \nThe theater performance will be entirely in English and follows the original script by William Shakespeare. Please note that the show contains flashing lights. \n 
URL:https://www.studentlund.se/event/lust-presents-julius-caesar-by-william-shakespeare/2026-04-25/1/
LOCATION:AF-Borgen\, Sandgatan 2\, Lund\, 223 50\, Sverige
ATTACH;FMTTYPE=image/png:https://www.studentlund.se/wp-content/uploads/2026/04/Caesar-update.png
ORGANIZER;CN="Lunds Studentteater":MAILTO:info@lundsstudentteater.se
GEO:55.7055019;13.1954887
X-APPLE-STRUCTURED-LOCATION;VALUE=URI;X-ADDRESS=AF-Borgen Sandgatan 2 Lund 223 50 Sverige;X-APPLE-RADIUS=500;X-TITLE=Sandgatan 2:geo:13.1954887,55.7055019
END:VEVENT
BEGIN:VEVENT
DTSTART;TZID=Europe/Stockholm:20260425T190000
DTEND;TZID=Europe/Stockholm:20260425T220000
DTSTAMP:20260419T202843
CREATED:20260407T061934Z
LAST-MODIFIED:20260407T061934Z
UID:10009044-1777143600-1777154400@www.studentlund.se
SUMMARY:LUST presents: Julius Caesar by William Shakespeare
DESCRIPTION:Caesar is feeling invincible after gaining sole control of Rome\, but not everyone’s happy about it. Is it one’s duty to turn against the President when the President has turned against his own people? Tensions run high in this contemporary adaptation of Shakespeare’s tragedy of politics\, love and betrayal. \nThe theater performance will be entirely in English and follows the original script by William Shakespeare. Please note that the show contains flashing lights. \n 
URL:https://www.studentlund.se/event/lust-presents-julius-caesar-by-william-shakespeare/2026-04-25/2/
LOCATION:AF-Borgen\, Sandgatan 2\, Lund\, 223 50\, Sverige
ATTACH;FMTTYPE=image/png:https://www.studentlund.se/wp-content/uploads/2026/04/Caesar-update.png
ORGANIZER;CN="Lunds Studentteater":MAILTO:info@lundsstudentteater.se
GEO:55.7055019;13.1954887
X-APPLE-STRUCTURED-LOCATION;VALUE=URI;X-ADDRESS=AF-Borgen Sandgatan 2 Lund 223 50 Sverige;X-APPLE-RADIUS=500;X-TITLE=Sandgatan 2:geo:13.1954887,55.7055019
END:VEVENT
END:VCALENDAR