BEGIN:VCALENDAR
VERSION:2.0
PRODID:-//Studentlund - ECPv6.15.20//NONSGML v1.0//EN
CALSCALE:GREGORIAN
METHOD:PUBLISH
X-WR-CALNAME:Studentlund
X-ORIGINAL-URL:https://www.studentlund.se
X-WR-CALDESC:Event under Studentlund
REFRESH-INTERVAL;VALUE=DURATION:PT1H
X-Robots-Tag:noindex
X-PUBLISHED-TTL:PT1H
BEGIN:VTIMEZONE
TZID:Europe/Stockholm
BEGIN:DAYLIGHT
TZOFFSETFROM:+0100
TZOFFSETTO:+0200
TZNAME:CEST
DTSTART:20250330T010000
END:DAYLIGHT
BEGIN:STANDARD
TZOFFSETFROM:+0200
TZOFFSETTO:+0100
TZNAME:CET
DTSTART:20251026T010000
END:STANDARD
BEGIN:DAYLIGHT
TZOFFSETFROM:+0100
TZOFFSETTO:+0200
TZNAME:CEST
DTSTART:20260329T010000
END:DAYLIGHT
BEGIN:STANDARD
TZOFFSETFROM:+0200
TZOFFSETTO:+0100
TZNAME:CET
DTSTART:20261025T010000
END:STANDARD
BEGIN:DAYLIGHT
TZOFFSETFROM:+0100
TZOFFSETTO:+0200
TZNAME:CEST
DTSTART:20270328T010000
END:DAYLIGHT
BEGIN:STANDARD
TZOFFSETFROM:+0200
TZOFFSETTO:+0100
TZNAME:CET
DTSTART:20271031T010000
END:STANDARD
END:VTIMEZONE
BEGIN:VEVENT
DTSTART;TZID=Europe/Stockholm:20260514T170000
DTEND;TZID=Europe/Stockholm:20260514T183000
DTSTAMP:20260419T181749
CREATED:20260304T150533Z
LAST-MODIFIED:20260304T150533Z
UID:10008965-1778778000-1778783400@www.studentlund.se
SUMMARY:GT Yoga | Blekingska nationen
DESCRIPTION:Välkommen till Blekingskas Gin and Tonic Yoga! \nNjut av härlig avkopplande yoga varvat med något gott att dricka.\nOm du har en matta\, ta med den! Annars\, har vi mattor att låna\nut. \nOm GT inte är din grej kommer Blekingska ha sitt vanliga utbud av alkoholhaltiga samt alkoholfria alternativ. Glöm inte att vatten är gratis och gott och bra när man tränar! \n17:00 öppnas dörrar och bar\, och 17:30 kör yoga passet igång. \nBlekingska Nationen har GT Yoga utvalda torsdagar mellan 17-18:30 på Ole Römers väg 14D. \nBiljetter säljs i STUK\, och i dörren.\nMedlemmar: 20kr\nIcke-medlemmar: 40kr\nGlöm inte leg och studentleg! \nKom och njut av härlig yoga! \n\nWelcome to Blekingska’s Gin and Tonic Yoga! \nThe concept is easy: we do relaxing and yoga together\, accompanied by a strengthening drink! \nIf you have a yoga mat\, bring it! If not\, we have mats to lend out! \nIf gin and tonic is not for you\, our normal selection of alcoholic and non-alcoholic drinks are available. Remember that Water is free and tasty and the best way to stay hydrated while working out! \n17:00 the doors and the bar opens\, and at 17:30 the yoga session will begin. \nBlekingska Nation host GT Yoga on selected Thursdays between 17-18:30 at Ole Römers väg 14D. \nTickets in the STUKapp\, and in the door.\nMembers: 20kr\nNon-members: 40kr\nDon’t forget your ID and student ID! \nLet’s relax and undwind!
URL:https://www.studentlund.se/event/gt-yoga-blekingska-nationen/2026-05-14/
ATTACH;FMTTYPE=image/png:https://www.studentlund.se/wp-content/uploads/2026/03/gt-yoga-FB.png
END:VEVENT
END:VCALENDAR