BEGIN:VCALENDAR
VERSION:2.0
PRODID:-//Studentlund - ECPv6.15.20//NONSGML v1.0//EN
CALSCALE:GREGORIAN
METHOD:PUBLISH
X-ORIGINAL-URL:https://www.studentlund.se
X-WR-CALDESC:Event under Studentlund
REFRESH-INTERVAL;VALUE=DURATION:PT1H
X-Robots-Tag:noindex
X-PUBLISHED-TTL:PT1H
BEGIN:VTIMEZONE
TZID:Europe/Stockholm
BEGIN:DAYLIGHT
TZOFFSETFROM:+0100
TZOFFSETTO:+0200
TZNAME:CEST
DTSTART:20260329T010000
END:DAYLIGHT
BEGIN:STANDARD
TZOFFSETFROM:+0200
TZOFFSETTO:+0100
TZNAME:CET
DTSTART:20261025T010000
END:STANDARD
BEGIN:DAYLIGHT
TZOFFSETFROM:+0100
TZOFFSETTO:+0200
TZNAME:CEST
DTSTART:20270328T010000
END:DAYLIGHT
BEGIN:STANDARD
TZOFFSETFROM:+0200
TZOFFSETTO:+0100
TZNAME:CET
DTSTART:20271031T010000
END:STANDARD
BEGIN:DAYLIGHT
TZOFFSETFROM:+0100
TZOFFSETTO:+0200
TZNAME:CEST
DTSTART:20280326T010000
END:DAYLIGHT
BEGIN:STANDARD
TZOFFSETFROM:+0200
TZOFFSETTO:+0100
TZNAME:CET
DTSTART:20281029T010000
END:STANDARD
END:VTIMEZONE
BEGIN:VEVENT
DTSTART;TZID=Europe/Stockholm:20270531T120000
DTEND;TZID=Europe/Stockholm:20270531T130000
DTSTAMP:20260425T124532
CREATED:20260212T102445Z
LAST-MODIFIED:20260212T102445Z
UID:10008469-1811764800-1811768400@www.studentlund.se
SUMMARY:Lettuce Eat I Hallands Nation
DESCRIPTION:Välkommen på Lettuce Eat! Återhämta dig från helgen med denna härliga måndagslunch!\nVarje måndag serveras en god & fräsch sallad till lunch på Hallands. Självklart finns det alltid ett vegetariskt alternativ att välja!\n\nHåll utkik efter vår veckomeny på vår Facebook eller Instagramsida för att se vilken sallad som serveras denna vecka!\n\nPris: 40 krTid: 12-13Plats: Thomanders väg 3\n\nDe é Kärlek! \n————-\nTake the opportunity to recover from the weekend with this wonderful Monday Lunch!\nCome by Hallands Nation at 12:00 to enjoy a good & fresh salad and also a great atmosphere! A vegetarian option is always served.\n\nStay updated here or on our Instagram page to see which salad is served this week!\n\nPrice: 40krTime: 12-13Location: Thomanders väg 3\n\nDe é Kärlek! 
URL:https://www.studentlund.se/event/lettuce-eat-i-hallands-nation/2027-05-31/
LOCATION:Hallands Nation\, Thomanders väg 3\, Lund\, 224 65\, Sverige
ORGANIZER;CN="Hallands Nation":MAILTO:expen@hallandsnation.se
GEO:55.7055724;13.211102
X-APPLE-STRUCTURED-LOCATION;VALUE=URI;X-ADDRESS=Hallands Nation Thomanders väg 3 Lund 224 65 Sverige;X-APPLE-RADIUS=500;X-TITLE=Thomanders väg 3:geo:13.211102,55.7055724
END:VEVENT
BEGIN:VEVENT
DTSTART;TZID=Europe/Stockholm:20270603T120000
DTEND;TZID=Europe/Stockholm:20270603T140000
DTSTAMP:20260425T124532
CREATED:20260128T153434Z
LAST-MODIFIED:20260304T113548Z
UID:10008382-1812024000-1812031200@www.studentlund.se
SUMMARY:Lunch Neptuni | Kalmar Nation
DESCRIPTION:[ below] \nCome and enjoy a freshly made and weekly changing lunch with homemade bread and dessert at Kalmar Nation!\nCome as you are! 💚 \n— \nKom och njut av en nylagad och veckovis varierande lunch med hembakat bröd och dessert på Kalmar Nation!\nKom som du är! 💚
URL:https://www.studentlund.se/event/lunch-neptuni-kalmar-nation/2027-06-03/
LOCATION:Kalmar Nation\, Biskopsgatan 12\, Lund\, 22362\, Sweden
ATTACH;FMTTYPE=image/jpeg:https://www.studentlund.se/wp-content/uploads/2024/08/fb-lunch-neptuni.jpg
ORGANIZER;CN="Kalmar Nation":MAILTO:q@kalmarnation.nu
GEO:55.7064872;13.1983699
X-APPLE-STRUCTURED-LOCATION;VALUE=URI;X-ADDRESS=Kalmar Nation Biskopsgatan 12 Lund 22362 Sweden;X-APPLE-RADIUS=500;X-TITLE=Biskopsgatan 12:geo:13.1983699,55.7064872
END:VEVENT
END:VCALENDAR