BEGIN:VCALENDAR
VERSION:2.0
PRODID:-//Studentlund - ECPv6.15.20//NONSGML v1.0//EN
CALSCALE:GREGORIAN
METHOD:PUBLISH
X-ORIGINAL-URL:https://www.studentlund.se
X-WR-CALDESC:Event under Studentlund
REFRESH-INTERVAL;VALUE=DURATION:PT1H
X-Robots-Tag:noindex
X-PUBLISHED-TTL:PT1H
BEGIN:VTIMEZONE
TZID:Europe/Stockholm
BEGIN:DAYLIGHT
TZOFFSETFROM:+0100
TZOFFSETTO:+0200
TZNAME:CEST
DTSTART:20260329T010000
END:DAYLIGHT
BEGIN:STANDARD
TZOFFSETFROM:+0200
TZOFFSETTO:+0100
TZNAME:CET
DTSTART:20261025T010000
END:STANDARD
BEGIN:DAYLIGHT
TZOFFSETFROM:+0100
TZOFFSETTO:+0200
TZNAME:CEST
DTSTART:20270328T010000
END:DAYLIGHT
BEGIN:STANDARD
TZOFFSETFROM:+0200
TZOFFSETTO:+0100
TZNAME:CET
DTSTART:20271031T010000
END:STANDARD
BEGIN:DAYLIGHT
TZOFFSETFROM:+0100
TZOFFSETTO:+0200
TZNAME:CEST
DTSTART:20280326T010000
END:DAYLIGHT
BEGIN:STANDARD
TZOFFSETFROM:+0200
TZOFFSETTO:+0100
TZNAME:CET
DTSTART:20281029T010000
END:STANDARD
END:VTIMEZONE
BEGIN:VEVENT
DTSTART;TZID=Europe/Stockholm:20270127T180000
DTEND;TZID=Europe/Stockholm:20270128T000000
DTSTAMP:20260425T022447
CREATED:20260304T150505Z
LAST-MODIFIED:20260304T150505Z
UID:10008881-1801072800-1801094400@www.studentlund.se
SUMMARY:Onsdagspuben | Blekingska nationen
DESCRIPTION:Välkommen tillbaka till Onsdagspuben på Blekingska nationen! \nOnsdagspuben är din halvtidspaus i veckan där vi firar att helgen skymtar vid horisonten. Det serveras både spännade specialburgare och klassiska varianter\, som avnjuts bäst tillsammans med valfri svalkande dryck! \nBlekingska Nationen har pub varje onsdag mellan 18-00 på Ole Römers väg 14D. \nVill du boka bord? Skriv till oss på boka@blekingska.se!\nAnnars är det bara att droppa in! \nVa redo för mysig barstämning! \n\nWelcome back to the Wednesday pub at Blekingska nation! \nThe Wednesday pub is your half-time break of the week when we come together to celebrate that the weekend is almost upon us.\nWe offer a special burger each week as well as a classic alternative. They’re best enjoyed with a refreshing drink of your choice! \nBlekingska Nation host a pub every Wednesday between 18-00 at Ole Römers väg 14D. \nDo you want to book a table? Book at boka@blekingska.se\nOtherwise\, drop by! \nGet ready for a cozy bar atmosphere!
URL:https://www.studentlund.se/event/onsdagspuben-blekingska-nationen/2027-01-27/
LOCATION:Blekingska nationen\, Ole Römers väg 14\, Lund\, Sverige
ATTACH;FMTTYPE=image/png:https://www.studentlund.se/wp-content/uploads/2026/03/Onsdagspuben-FB.png
GEO:55.7085465;13.1698268
X-APPLE-STRUCTURED-LOCATION;VALUE=URI;X-ADDRESS=Blekingska nationen Ole Römers väg 14 Lund Sverige;X-APPLE-RADIUS=500;X-TITLE=Ole Römers väg 14:geo:13.1698268,55.7085465
END:VEVENT
BEGIN:VEVENT
DTSTART;TZID=Europe/Stockholm:20270127T190000
DTEND;TZID=Europe/Stockholm:20270127T230000
DTSTAMP:20260425T022447
CREATED:20260212T102327Z
LAST-MODIFIED:20260212T102327Z
UID:10008658-1801076400-1801090800@www.studentlund.se
SUMMARY:Wangö Pub Quiz I Hallands Nation
DESCRIPTION:– English below –\n\nVälkommen till Wangö Pub Quiz!\n\nTa med dina vänner och njut av god mat och dryck i Lunds mysigaste pub!\nDe lag som samlat flest poäng i slutet av terminen vinner ett fint pris och hamnar även på vår wall of fame!\n\nHåll dig uppdaterad på vår facebooksida för kvällens matmeny.\n\nTid: kl. 19:00-23:00Plats: Hallands Nation\, Thomanders väg 3\, Lund\n\nVi öppnar för bordsbokning 2 veckor innan evenemanget äger rum\, och bokar gör du genom att maila info@hallandsnation.se\n\nDe é Kärlek!————-\nWarm welcome to Wangö Pub Quiz!\n\nCome to Hallands Nation with a group of friends and enjoy great food and drinks in Lunds most cozy pub!\nThe team that has collected the most points at the end of the semester will win a nice prize and end up on our wall of fame!\n\nKeep yourself updated on our Facebook page for the weekly food menu!\n\nwhen: from 19 to 23where: Hallands Nation\, Thomanders väg 3\n\nWe open for table reservations 2 weeks before the event takes place\, and you can book by emailing info@hallandsnation.se\n\nDe é Kärlek!
URL:https://www.studentlund.se/event/wango-pub-quiz-i-hallands-nation/2027-01-27/
LOCATION:Hallands Nation\, Thomanders väg 3\, Lund\, 224 65\, Sverige
ATTACH;FMTTYPE=image/jpeg:https://www.studentlund.se/wp-content/uploads/2025/08/432372478_787704910056935_9088910167298684692_n.jpg
ORGANIZER;CN="Hallands Nation":MAILTO:expen@hallandsnation.se
GEO:55.7055724;13.211102
X-APPLE-STRUCTURED-LOCATION;VALUE=URI;X-ADDRESS=Hallands Nation Thomanders väg 3 Lund 224 65 Sverige;X-APPLE-RADIUS=500;X-TITLE=Thomanders väg 3:geo:13.211102,55.7055724
END:VEVENT
END:VCALENDAR