BEGIN:VCALENDAR
VERSION:2.0
PRODID:-//Studentlund - ECPv6.15.20//NONSGML v1.0//EN
CALSCALE:GREGORIAN
METHOD:PUBLISH
X-ORIGINAL-URL:https://www.studentlund.se
X-WR-CALDESC:Event under Studentlund
REFRESH-INTERVAL;VALUE=DURATION:PT1H
X-Robots-Tag:noindex
X-PUBLISHED-TTL:PT1H
BEGIN:VTIMEZONE
TZID:Europe/Stockholm
BEGIN:DAYLIGHT
TZOFFSETFROM:+0100
TZOFFSETTO:+0200
TZNAME:CEST
DTSTART:20250330T010000
END:DAYLIGHT
BEGIN:STANDARD
TZOFFSETFROM:+0200
TZOFFSETTO:+0100
TZNAME:CET
DTSTART:20251026T010000
END:STANDARD
BEGIN:DAYLIGHT
TZOFFSETFROM:+0100
TZOFFSETTO:+0200
TZNAME:CEST
DTSTART:20260329T010000
END:DAYLIGHT
BEGIN:STANDARD
TZOFFSETFROM:+0200
TZOFFSETTO:+0100
TZNAME:CET
DTSTART:20261025T010000
END:STANDARD
BEGIN:DAYLIGHT
TZOFFSETFROM:+0100
TZOFFSETTO:+0200
TZNAME:CEST
DTSTART:20270328T010000
END:DAYLIGHT
BEGIN:STANDARD
TZOFFSETFROM:+0200
TZOFFSETTO:+0100
TZNAME:CET
DTSTART:20271031T010000
END:STANDARD
END:VTIMEZONE
BEGIN:VEVENT
DTSTART;TZID=Europe/Stockholm:20260529T180000
DTEND;TZID=Europe/Stockholm:20260529T230000
DTSTAMP:20260424T161738
CREATED:20260212T102422Z
LAST-MODIFIED:20260212T102422Z
UID:10008691-1780077600-1780095600@www.studentlund.se
SUMMARY:Wangö Karaoke Pub I Hallands Nation
DESCRIPTION:Välkommen till Wangö Karaoke Pub!\n\nVarje vecka har du att ha möjlighet att bjuda på skönsång och värma upp rösten inför klubben!\n\nVi kommer vanligt servera goda pizzor tillsammans med pitchers av olika slag! Perfekt som slutet på en lång pluggvecka eller varför inte som början på en hejdundrande utekväll?\n\nKolla in vår facebooksida för att se vilka pizzor som serveras denna veckan. Vi serverar alltid ett vegetariskt alternativ!\n\nTid: kl. 18:00-23:00Plats: Hallands Nations puben\, Thomanders väg 3\n\nGenom att gå på puben får man även gratis entré till våran klubb! Glöm inte att boka bord för att garanterad plats genom att maila info@hallandsnation.se tidigast två veckor innan!\n\nDe é Kärlek!\n\nWangö Karaoke Pub har möjlighet att genomföras med hjälp av AF:s projektfond.\n————-\nWelcome to Wangö Karaoke Pub!\n\nEvery week you have the opportunity to show beautiful singing and warm up your voice before the club!\n\nAs usual\, we will serve fresh homemade pizzas together with pitchers of various kinds! Perfect as the end of a long study week or why not as the start of a thunderous night out?\n\nCheck out our Facebook page and Instagram to see which pizzas are being served this week. We always serve a vegetarian option!\n\nWhen: from 18:00 to 23:00Where: Hallands Nation’s pub\, Thomanders väg 3\n\nBy going to our pub you also get free entrance to our Club Vanta! Don’t forget to book a table to guarantee a place by emailing info@hallandsnation.se until two weeks ahead!\n\nDe é Kärlek!\n\nWangö Karaoke Pub has the opportunity to be implemented with the help of AF’s project fund.
URL:https://www.studentlund.se/event/wango-karaoke-pub-i-hallands-nation/2026-05-29/
LOCATION:Hallands Nation\, Thomanders väg 3\, Lund\, 224 65\, Sverige
ATTACH;FMTTYPE=image/png:https://www.studentlund.se/wp-content/uploads/2025/08/Karaoke.png
ORGANIZER;CN="Hallands Nation":MAILTO:expen@hallandsnation.se
GEO:55.7055724;13.211102
X-APPLE-STRUCTURED-LOCATION;VALUE=URI;X-ADDRESS=Hallands Nation Thomanders väg 3 Lund 224 65 Sverige;X-APPLE-RADIUS=500;X-TITLE=Thomanders väg 3:geo:13.211102,55.7055724
END:VEVENT
BEGIN:VEVENT
DTSTART;TZID=Europe/Stockholm:20260529T180000
DTEND;TZID=Europe/Stockholm:20260530T010000
DTSTAMP:20260424T161738
CREATED:20260129T151614Z
LAST-MODIFIED:20260129T151614Z
UID:10008303-1780077600-1780102800@www.studentlund.se
SUMMARY:Pub Kaggen | Kalmar Nation
DESCRIPTION:[  below] Pub Kaggen is back! Every Friday Kalmar Nation will have a Pub with delicious burger. We offer a classic burger and a weekly burger special. All Burgers can be made vegetarian or vegan. Come and enjoy a relaxing Friday night with burgers and drinks in our cozy pub. Don’t forget your Swedish ID\, EU ID\, or Passport and Studentlund membership. Come as you are  \n— \nPub Kaggen is back! Every Friday Kalmar Nation will have a Pub with tasty burgers. We offer a regular burger and a weekly varying burger. All burgers can be made vegetarian or vegan. \nCome and enjoy a relaxing Friday night with burgers and drinks in our cozy pub. \nDon’t forget your ID/Passport and Studentlund membership. \nCome as you are!
URL:https://www.studentlund.se/event/pub-kaggen-kalmar-nation-2/2026-05-29/
LOCATION:Kalmar Nation\, Biskopsgatan 12\, Lund\, 22362\, Sweden
ATTACH;FMTTYPE=image/jpeg:https://www.studentlund.se/wp-content/uploads/2024/08/fb-pub-kaggen.jpg
ORGANIZER;CN="Kalmar Nation":MAILTO:q@kalmarnation.nu
GEO:55.7064872;13.1983699
X-APPLE-STRUCTURED-LOCATION;VALUE=URI;X-ADDRESS=Kalmar Nation Biskopsgatan 12 Lund 22362 Sweden;X-APPLE-RADIUS=500;X-TITLE=Biskopsgatan 12:geo:13.1983699,55.7064872
END:VEVENT
BEGIN:VEVENT
DTSTART;TZID=Europe/Stockholm:20260529T220000
DTEND;TZID=Europe/Stockholm:20260530T020000
DTSTAMP:20260424T161738
CREATED:20260212T102520Z
LAST-MODIFIED:20260212T102520Z
UID:10008758-1780092000-1780106400@www.studentlund.se
SUMMARY:Club Vanta I Hallands Nation
DESCRIPTION:– English below –\n\nVårterminen närmar sig med stormsteg och åh\, vad vi längtar tills vi får träffa er igen!\nVarje fredag\, välkomnar vi er till vårt inte så nya Club Vanta-koncept samtidigt med våra kära DJs Stuntboys!! Och för den som är sugen på sing-along är vår karaokepub fortfarande öppen som vanligt.\n\nTa med nära samt kära och kom som ni é. Vi vill att ni tillsammans ska känna er som ett i mörkret!\nAlla medlemmar i Hallands Nation har gratis inträde HELA KVÄLLEN.\n\nFörköp säljs via STUK-appen. Större grupper kan skicka iväg ett mail till q@hallandsnation.se för att köpa biljetter! Förköpen är giltiga 22:00-23:00.\n\nGlöm inte ID och StudentID (eller eventuellt betalningsintyg)\n\nVi fotograferar under våra verksamheter – har du några frågor maila info@hallandsnation.se\n\nDe é Kärlek!————-\nEvery Friday\, we are welcoming you to our not-so-new Club Vanta concept along with our beloved DJs Stuntboys!! For those who are in the mood for a sing-along\, our karaoke pub will be held open throughout the night as usual.\n\nBring your friends\, come as you are. We want you all to feel as one in the dark!\n\nAll members of Hallands Nation have free entry throughout the WHOLE NIGHT.\n\nPre-ticktes are sold via the STUK app on the Monday of the same week. Larger groups can send an email to q@hallandsnation.se to buy tickets! The pre-tickets are valid 22:00-23:00.\n\nDon’t forget ID and StudentID (or possibly proof of payment)\n\nWe photograph during our events – if you have any questions\, email info@hallandsnation.se\n\nDe é Kärlek!
URL:https://www.studentlund.se/event/club-vanta-i-hallands-nation/2026-05-29/
LOCATION:Hallands Nation\, Thomanders väg 3\, Lund\, 224 65\, Sverige
ATTACH;FMTTYPE=image/png:https://www.studentlund.se/wp-content/uploads/2024/08/Club-Vanta-Banner-Final.png
ORGANIZER;CN="Hallands Nation":MAILTO:expen@hallandsnation.se
GEO:55.7055724;13.211102
X-APPLE-STRUCTURED-LOCATION;VALUE=URI;X-ADDRESS=Hallands Nation Thomanders väg 3 Lund 224 65 Sverige;X-APPLE-RADIUS=500;X-TITLE=Thomanders väg 3:geo:13.211102,55.7055724
END:VEVENT
BEGIN:VEVENT
DTSTART;TZID=Europe/Stockholm:20260529T223000
DTEND;TZID=Europe/Stockholm:20260530T020000
DTSTAMP:20260424T161738
CREATED:20260311T101112Z
LAST-MODIFIED:20260311T101112Z
UID:10009028-1780093800-1780106400@www.studentlund.se
SUMMARY:Klubb Indigo | Blekingska nationen
DESCRIPTION:lubb Indigo på Blekingska! \nVår DJ kommer att spela de allra bästa indiehitsen så du kan njuta av en natt fylld av dans och extas! \nIndigo är vårt äldsta klubbconcept\, och har i över 30år fått festsugna studenter att sjung dig hes till The Smiths och Håkan. Så kom och låt Joy Division\, Markus Krunegård\, Kent och Robyn leda dig in i natten! \nFörköp finns på STUK! \nVad gäller:\nOle Römers väg 14D\, kl 22:30-2:00 (och vem vet kanske efterfest också) \nGlöm inte id och studentleg \n\nClub Indigo at Blekingska! \nOur DJ will be providing the best of new and old indie\, rock and pop\, and fill your night with dance! \nClub Indigo has for 30 years made happy students sing and dance along to Broder Daniel\, The Cure\, Blur\, Robyn\, The Strokes\, bob hund and Håkan Hellström! \nBuy förköp at STUK! \nSo what’s happening:\nOle Römers väg 14D\, kl 22:30-00:00 (and who knows maybe an afterparty) \nDon’t forget ID and student-ID
URL:https://www.studentlund.se/event/klubb-indigo-blekingska-nationen/2026-05-29/
LOCATION:Blekingska nationen\, Ole Römers väg 14\, Lund\, Sverige
ATTACH;FMTTYPE=image/png:https://www.studentlund.se/wp-content/uploads/2024/10/5.png
GEO:55.7085465;13.1698268
X-APPLE-STRUCTURED-LOCATION;VALUE=URI;X-ADDRESS=Blekingska nationen Ole Römers väg 14 Lund Sverige;X-APPLE-RADIUS=500;X-TITLE=Ole Römers väg 14:geo:13.1698268,55.7085465
END:VEVENT
END:VCALENDAR