BEGIN:VCALENDAR
VERSION:2.0
PRODID:-//Studentlund - ECPv6.15.20//NONSGML v1.0//EN
CALSCALE:GREGORIAN
METHOD:PUBLISH
X-ORIGINAL-URL:https://www.studentlund.se
X-WR-CALDESC:Event under Studentlund
REFRESH-INTERVAL;VALUE=DURATION:PT1H
X-Robots-Tag:noindex
X-PUBLISHED-TTL:PT1H
BEGIN:VTIMEZONE
TZID:Europe/Stockholm
BEGIN:DAYLIGHT
TZOFFSETFROM:+0100
TZOFFSETTO:+0200
TZNAME:CEST
DTSTART:20250330T010000
END:DAYLIGHT
BEGIN:STANDARD
TZOFFSETFROM:+0200
TZOFFSETTO:+0100
TZNAME:CET
DTSTART:20251026T010000
END:STANDARD
BEGIN:DAYLIGHT
TZOFFSETFROM:+0100
TZOFFSETTO:+0200
TZNAME:CEST
DTSTART:20260329T010000
END:DAYLIGHT
BEGIN:STANDARD
TZOFFSETFROM:+0200
TZOFFSETTO:+0100
TZNAME:CET
DTSTART:20261025T010000
END:STANDARD
BEGIN:DAYLIGHT
TZOFFSETFROM:+0100
TZOFFSETTO:+0200
TZNAME:CEST
DTSTART:20270328T010000
END:DAYLIGHT
BEGIN:STANDARD
TZOFFSETFROM:+0200
TZOFFSETTO:+0100
TZNAME:CET
DTSTART:20271031T010000
END:STANDARD
END:VTIMEZONE
BEGIN:VEVENT
DTSTART;TZID=Europe/Stockholm:20260509T180000
DTEND;TZID=Europe/Stockholm:20260510T000000
DTSTAMP:20260424T184129
CREATED:20260311T101120Z
LAST-MODIFIED:20260311T101120Z
UID:10008972-1778349600-1778371200@www.studentlund.se
SUMMARY:Sonjas Lördagspub | Blekingska nationen
DESCRIPTION:Välkommen till Sonjas Lördagspub på Blekingska nationen! \nTa med en vän och fira att helgen är här med en bit mat och svalkande dryck! \nVeckans meny: uppdateras på vår facebook sida! \nBlekingska nationen har Sonjas varje lördag mellan 18-00 på Ole Römers väg 14D. \nGör dig redo för mysig barstämning! \nHoppas vi ses! \n\nWelcome to Sonja’s Saturday Pub at Blekingska nation! \nBring a friend and come celebrate that the weekend is finally here with a bite and a refreshing drink! \nMenu of the week: is updated on our facebook site! \nBlekingska Nation hosts Sonja’s every Saturday between 18-00 at\nOle Römers väg 14D. \nBe ready for a cozy bar atmosphere! \nHope to see you there!
URL:https://www.studentlund.se/event/sonjas-lordagspub-blekingska-nationen/2026-05-09/
LOCATION:Blekingska nationen\, Ole Römers väg 14\, Lund\, Sverige
ATTACH;FMTTYPE=image/png:https://www.studentlund.se/wp-content/uploads/2026/03/Sonjas-STUK.png
GEO:55.7085465;13.1698268
X-APPLE-STRUCTURED-LOCATION;VALUE=URI;X-ADDRESS=Blekingska nationen Ole Römers väg 14 Lund Sverige;X-APPLE-RADIUS=500;X-TITLE=Ole Römers väg 14:geo:13.1698268,55.7085465
END:VEVENT
END:VCALENDAR