BEGIN:VCALENDAR
VERSION:2.0
PRODID:-//Studentlund - ECPv6.15.20//NONSGML v1.0//EN
CALSCALE:GREGORIAN
METHOD:PUBLISH
X-WR-CALNAME:Studentlund
X-ORIGINAL-URL:https://www.studentlund.se
X-WR-CALDESC:Event under Studentlund
REFRESH-INTERVAL;VALUE=DURATION:PT1H
X-Robots-Tag:noindex
X-PUBLISHED-TTL:PT1H
BEGIN:VTIMEZONE
TZID:Europe/Stockholm
BEGIN:DAYLIGHT
TZOFFSETFROM:+0100
TZOFFSETTO:+0200
TZNAME:CEST
DTSTART:20250330T010000
END:DAYLIGHT
BEGIN:STANDARD
TZOFFSETFROM:+0200
TZOFFSETTO:+0100
TZNAME:CET
DTSTART:20251026T010000
END:STANDARD
BEGIN:DAYLIGHT
TZOFFSETFROM:+0100
TZOFFSETTO:+0200
TZNAME:CEST
DTSTART:20260329T010000
END:DAYLIGHT
BEGIN:STANDARD
TZOFFSETFROM:+0200
TZOFFSETTO:+0100
TZNAME:CET
DTSTART:20261025T010000
END:STANDARD
BEGIN:DAYLIGHT
TZOFFSETFROM:+0100
TZOFFSETTO:+0200
TZNAME:CEST
DTSTART:20270328T010000
END:DAYLIGHT
BEGIN:STANDARD
TZOFFSETFROM:+0200
TZOFFSETTO:+0100
TZNAME:CET
DTSTART:20271031T010000
END:STANDARD
END:VTIMEZONE
BEGIN:VEVENT
DTSTART;TZID=Europe/Stockholm:20260502T180000
DTEND;TZID=Europe/Stockholm:20260502T230000
DTSTAMP:20260424T150417
CREATED:20250916T101930Z
LAST-MODIFIED:20260324T121027Z
UID:10007992-1777744800-1777762800@www.studentlund.se
SUMMARY:BÄNKEN SPORTBAR
DESCRIPTION:[English Below]\nVälkommna till BÄNKEN! Kristianstads nations egna sportbar! Här kan ni njuta av god mat och dryck samtidigt som det visas sport i världsklass. Dra ihop kompisgänget och se de bästa matcherna i Premier League hos oss! ✨\nDrop-in gäller\, STUK och giltigt ID krävs för inträde. Bänken har öppet varje lördag 18-sent kolla in facebook evenemanget eller vår instagram för att se vilka matcher som visas.\nVid vidare frågor går det bra att maila PQs på pqs@krnation.se.\nVi ses där! ⚽️\n————–\nWelcome to BÄNKEN! Kristianstad Nations one and only sports bar! Here you can enjoy good food and drink while watching world-class sports. Get the group of friends together and watch the best matches in the Premier League with us! ✨\nDrop-in applies\, STUK and valid ID are required for entry. Bänken is open every saturday 18-late. Check out the facebook event or our instagram to see what games we are showing!\nFor further questions\, you can email the PQs at pqs@krnation.se.\nSee you there! ⚽️
URL:https://www.studentlund.se/event/banken-sportbar/2026-05-02/
ATTACH;FMTTYPE=image/jpeg:https://www.studentlund.se/wp-content/uploads/2025/09/STUK-media.jpg
END:VEVENT
BEGIN:VEVENT
DTSTART;TZID=Europe/Stockholm:20260502T180000
DTEND;TZID=Europe/Stockholm:20260503T000000
DTSTAMP:20260424T150417
CREATED:20260311T101120Z
LAST-MODIFIED:20260311T101120Z
UID:10008971-1777744800-1777766400@www.studentlund.se
SUMMARY:Sonjas Lördagspub | Blekingska nationen
DESCRIPTION:Välkommen till Sonjas Lördagspub på Blekingska nationen! \nTa med en vän och fira att helgen är här med en bit mat och svalkande dryck! \nVeckans meny: uppdateras på vår facebook sida! \nBlekingska nationen har Sonjas varje lördag mellan 18-00 på Ole Römers väg 14D. \nGör dig redo för mysig barstämning! \nHoppas vi ses! \n\nWelcome to Sonja’s Saturday Pub at Blekingska nation! \nBring a friend and come celebrate that the weekend is finally here with a bite and a refreshing drink! \nMenu of the week: is updated on our facebook site! \nBlekingska Nation hosts Sonja’s every Saturday between 18-00 at\nOle Römers väg 14D. \nBe ready for a cozy bar atmosphere! \nHope to see you there!
URL:https://www.studentlund.se/event/sonjas-lordagspub-blekingska-nationen/2026-05-02/
LOCATION:Blekingska nationen\, Ole Römers väg 14\, Lund\, Sverige
ATTACH;FMTTYPE=image/png:https://www.studentlund.se/wp-content/uploads/2026/03/Sonjas-STUK.png
GEO:55.7085465;13.1698268
X-APPLE-STRUCTURED-LOCATION;VALUE=URI;X-ADDRESS=Blekingska nationen Ole Römers väg 14 Lund Sverige;X-APPLE-RADIUS=500;X-TITLE=Ole Römers väg 14:geo:13.1698268,55.7085465
END:VEVENT
END:VCALENDAR