BEGIN:VCALENDAR
VERSION:2.0
PRODID:-//Studentlund - ECPv6.15.20//NONSGML v1.0//EN
CALSCALE:GREGORIAN
METHOD:PUBLISH
X-WR-CALNAME:Studentlund
X-ORIGINAL-URL:https://www.studentlund.se
X-WR-CALDESC:Event under Studentlund
REFRESH-INTERVAL;VALUE=DURATION:PT1H
X-Robots-Tag:noindex
X-PUBLISHED-TTL:PT1H
BEGIN:VTIMEZONE
TZID:Europe/Stockholm
BEGIN:DAYLIGHT
TZOFFSETFROM:+0100
TZOFFSETTO:+0200
TZNAME:CEST
DTSTART:20250330T010000
END:DAYLIGHT
BEGIN:STANDARD
TZOFFSETFROM:+0200
TZOFFSETTO:+0100
TZNAME:CET
DTSTART:20251026T010000
END:STANDARD
BEGIN:DAYLIGHT
TZOFFSETFROM:+0100
TZOFFSETTO:+0200
TZNAME:CEST
DTSTART:20260329T010000
END:DAYLIGHT
BEGIN:STANDARD
TZOFFSETFROM:+0200
TZOFFSETTO:+0100
TZNAME:CET
DTSTART:20261025T010000
END:STANDARD
BEGIN:DAYLIGHT
TZOFFSETFROM:+0100
TZOFFSETTO:+0200
TZNAME:CEST
DTSTART:20270328T010000
END:DAYLIGHT
BEGIN:STANDARD
TZOFFSETFROM:+0200
TZOFFSETTO:+0100
TZNAME:CET
DTSTART:20271031T010000
END:STANDARD
END:VTIMEZONE
BEGIN:VEVENT
DTSTART;TZID=Europe/Stockholm:20260421T180000
DTEND;TZID=Europe/Stockholm:20260422T000000
DTSTAMP:20260421T111541
CREATED:20250821T183255Z
LAST-MODIFIED:20260227T151643Z
UID:10007397-1776794400-1776816000@www.studentlund.se
SUMMARY:Pub Ölkällaren | Kalmar Nation
DESCRIPTION:[  below ]\nDo you want to have a chill night out on a Tuesday? Then come by Kalmar Nation! We have a unique meal every week and a wide variety of beer\, cider\, and non-alcoholic options!\nDon’t forget your Swedish ID\, EU ID\, or Passport and Studentlund membership (STUK card).\nCome as you are! \n—\nVill du ha en avslappnad kväll på en tisdag? Kom då förbi på Kalmar Nation. Ät en veckovis varierande middag och drick några drinkar och njut av kvällen.\nGlöm inte ditt ID/Pass och studentlundsmedlemskap.\nKom som du är!
URL:https://www.studentlund.se/event/pub-olkallaren-kalmar-nation-2-2-2/2026-04-21/
LOCATION:Kalmar Nation\, Biskopsgatan 12\, Lund\, 22362\, Sweden
CATEGORIES:Pub
ATTACH;FMTTYPE=image/jpeg:https://www.studentlund.se/wp-content/uploads/2024/08/fb-pub-olkallaren.jpg
ORGANIZER;CN="Kalmar Nation":MAILTO:q@kalmarnation.nu
GEO:55.7064872;13.1983699
X-APPLE-STRUCTURED-LOCATION;VALUE=URI;X-ADDRESS=Kalmar Nation Biskopsgatan 12 Lund 22362 Sweden;X-APPLE-RADIUS=500;X-TITLE=Biskopsgatan 12:geo:13.1983699,55.7064872
END:VEVENT
END:VCALENDAR